BYTEORDER      I
LAYOUT         BIL
NROWS          600
NCOLS          1080
NBANDS         1
NBITS          16
BANDROWBYTES   2160
TOTALROWBYTES  2160
BANDGAPBYTES   0
NODATA         -500
ULXMAP         -109.99583329
ULYMAP         41.49583332
XDIM           0.00833333
YDIM           0.00833333
